BEGIN:VCALENDAR
VERSION:2.0
PRODID:-//Shell Point Resident Website - ECPv6.15.17.1//NONSGML v1.0//EN
CALSCALE:GREGORIAN
METHOD:PUBLISH
X-WR-CALNAME:Shell Point Resident Website
X-ORIGINAL-URL:https://www.shellpoint.net
X-WR-CALDESC:Events for Shell Point Resident Website
REFRESH-INTERVAL;VALUE=DURATION:PT1H
X-Robots-Tag:noindex
X-PUBLISHED-TTL:PT1H
BEGIN:VTIMEZONE
TZID:America/New_York
BEGIN:DAYLIGHT
TZOFFSETFROM:-0500
TZOFFSETTO:-0400
TZNAME:EDT
DTSTART:20250309T070000
END:DAYLIGHT
BEGIN:STANDARD
TZOFFSETFROM:-0400
TZOFFSETTO:-0500
TZNAME:EST
DTSTART:20251102T060000
END:STANDARD
BEGIN:DAYLIGHT
TZOFFSETFROM:-0500
TZOFFSETTO:-0400
TZNAME:EDT
DTSTART:20260308T070000
END:DAYLIGHT
BEGIN:STANDARD
TZOFFSETFROM:-0400
TZOFFSETTO:-0500
TZNAME:EST
DTSTART:20261101T060000
END:STANDARD
BEGIN:DAYLIGHT
TZOFFSETFROM:-0500
TZOFFSETTO:-0400
TZNAME:EDT
DTSTART:20270314T070000
END:DAYLIGHT
BEGIN:STANDARD
TZOFFSETFROM:-0400
TZOFFSETTO:-0500
TZNAME:EST
DTSTART:20271107T060000
END:STANDARD
END:VTIMEZONE
BEGIN:VEVENT
DTSTART;TZID=America/New_York:20260202T103000
DTEND;TZID=America/New_York:20260202T113000
DTSTAMP:20260422T221218
CREATED:20251209T193628Z
LAST-MODIFIED:20251210T135639Z
UID:236184-1770028200-1770031800@www.shellpoint.net
SUMMARY:FLL35 - Riverwork Project: Visiting Artist
DESCRIPTION:Join artist Sun Smith-Foret—whose work is featured in the Tribby’s Above and Beyond exhibition—to hear about the concept and evolution of the Riverwork Project\, a touchstone for racial equity and connectivity between and among black and white artists in the greater St. Louis region and beyond. Her quilting practice led to Riverwork and\, in the years following its initial release\, to paintings of the Mississippi River and surrounding landscape where she lived for 11 years. Smith-Foret will also discuss the nature of collaboration and what it means to have a materials and object-based practice with spiritual and eco-centric meaning.
URL:https://www.shellpoint.net/event/fll35-riverwork-project-visiting-artist/
LOCATION:Connie Brown Hall/TAC\, 17281 On Par Blvd
CATEGORIES:Academy,AcademyPublic
ATTACH;FMTTYPE=image/png:https://www.shellpoint.net/wp-content/uploads/2025/12/riverwork-project.png
ORGANIZER;CN="Kelly McBane%2C Fine & Performing Arts Manager":MAILTO:kellymcbane@shellpoint.org
END:VEVENT
END:VCALENDAR