BEGIN:VCALENDAR
VERSION:2.0
PRODID:-//Shell Point Resident Website - ECPv6.15.17.1//NONSGML v1.0//EN
CALSCALE:GREGORIAN
METHOD:PUBLISH
X-WR-CALNAME:Shell Point Resident Website
X-ORIGINAL-URL:https://www.shellpoint.net
X-WR-CALDESC:Events for Shell Point Resident Website
REFRESH-INTERVAL;VALUE=DURATION:PT1H
X-Robots-Tag:noindex
X-PUBLISHED-TTL:PT1H
BEGIN:VTIMEZONE
TZID:America/New_York
BEGIN:DAYLIGHT
TZOFFSETFROM:-0500
TZOFFSETTO:-0400
TZNAME:EDT
DTSTART:20250309T070000
END:DAYLIGHT
BEGIN:STANDARD
TZOFFSETFROM:-0400
TZOFFSETTO:-0500
TZNAME:EST
DTSTART:20251102T060000
END:STANDARD
BEGIN:DAYLIGHT
TZOFFSETFROM:-0500
TZOFFSETTO:-0400
TZNAME:EDT
DTSTART:20260308T070000
END:DAYLIGHT
BEGIN:STANDARD
TZOFFSETFROM:-0400
TZOFFSETTO:-0500
TZNAME:EST
DTSTART:20261101T060000
END:STANDARD
BEGIN:DAYLIGHT
TZOFFSETFROM:-0500
TZOFFSETTO:-0400
TZNAME:EDT
DTSTART:20270314T070000
END:DAYLIGHT
BEGIN:STANDARD
TZOFFSETFROM:-0400
TZOFFSETTO:-0500
TZNAME:EST
DTSTART:20271107T060000
END:STANDARD
END:VTIMEZONE
BEGIN:VEVENT
DTSTART;TZID=America/New_York:20260127T190000
DTEND;TZID=America/New_York:20260127T190000
DTSTAMP:20260424T162815
CREATED:20250904T120051Z
LAST-MODIFIED:20251216T134131Z
UID:235724-1769540400-1769540400@www.shellpoint.net
SUMMARY:Stephanie Trick and Paolo Alderighi [SOLD OUT]
DESCRIPTION:Back by popular demand\, internationally acclaimed pianists Stephanie Trick and Paolo Alderighi return to Shell Point\, bringing their extraordinary four-hands piano artistry to the Tribby stage with an all-new show! Known for their dazzling blend of stride\, ragtime\, jazz\, and classical influences\, this dynamic husband-and-wife team delivers performances filled with infectious energy\, breathtaking technique\, and irresistible charm. Their new program promises fresh arrangements and the same joyous spirit that has made them audience favorites around the world. Don’t miss the chance to experience the magical virtuosity of this dazzling duo.
URL:https://www.shellpoint.net/event/stephanie-trick-and-paolo-alderighi/
LOCATION:Connie Brown Hall/TAC\, 17281 On Par Blvd
CATEGORIES:Box Office,ConcertPublic,Concerts,Jazz
ATTACH;FMTTYPE=image/jpeg:https://www.shellpoint.net/wp-content/uploads/2023/08/09.-JAN-25-24-Stephanie-Trick-and-Paolo-Alderighi-2.jpg
ORGANIZER;CN="Kelly McBane%2C Fine & Performing Arts Manager":MAILTO:kellymcbane@shellpoint.org
END:VEVENT
END:VCALENDAR