BEGIN:VCALENDAR
VERSION:2.0
PRODID:-//Shell Point Resident Website - ECPv6.15.17.1//NONSGML v1.0//EN
CALSCALE:GREGORIAN
METHOD:PUBLISH
X-WR-CALNAME:Shell Point Resident Website
X-ORIGINAL-URL:https://www.shellpoint.net
X-WR-CALDESC:Events for Shell Point Resident Website
REFRESH-INTERVAL;VALUE=DURATION:PT1H
X-Robots-Tag:noindex
X-PUBLISHED-TTL:PT1H
BEGIN:VTIMEZONE
TZID:America/New_York
BEGIN:DAYLIGHT
TZOFFSETFROM:-0500
TZOFFSETTO:-0400
TZNAME:EDT
DTSTART:20250309T070000
END:DAYLIGHT
BEGIN:STANDARD
TZOFFSETFROM:-0400
TZOFFSETTO:-0500
TZNAME:EST
DTSTART:20251102T060000
END:STANDARD
BEGIN:DAYLIGHT
TZOFFSETFROM:-0500
TZOFFSETTO:-0400
TZNAME:EDT
DTSTART:20260308T070000
END:DAYLIGHT
BEGIN:STANDARD
TZOFFSETFROM:-0400
TZOFFSETTO:-0500
TZNAME:EST
DTSTART:20261101T060000
END:STANDARD
BEGIN:DAYLIGHT
TZOFFSETFROM:-0500
TZOFFSETTO:-0400
TZNAME:EDT
DTSTART:20270314T070000
END:DAYLIGHT
BEGIN:STANDARD
TZOFFSETFROM:-0400
TZOFFSETTO:-0500
TZNAME:EST
DTSTART:20271107T060000
END:STANDARD
END:VTIMEZONE
BEGIN:VEVENT
DTSTART;TZID=America/New_York:20260130T130000
DTEND;TZID=America/New_York:20260130T140000
DTSTAMP:20260424T080734
CREATED:20251209T193105Z
LAST-MODIFIED:20251210T135933Z
UID:10005601-1769778000-1769781600@www.shellpoint.net
SUMMARY:FLL33 - How Hershey and Mars Changed Chocolate Forever
DESCRIPTION:In chocolate history\, few names are better known than Hershey and Mars. Milton Hershey brought milk chocolate to the masses with his Hershey bar. Frank and Forrest Mars dominated American sweet tooths with the Milky Way\, Snickers\, and Three Musketeers bars. Join historian Leslie Goddard\, Ph.D. to explore how these two legendary companies began\, and how their rivalry changed chocolate forever.
URL:https://www.shellpoint.net/event/fll33-how-hershey-and-mars-changed-chocolate-forever/
LOCATION:Connie Brown Hall/TAC\, 17281 On Par Blvd
CATEGORIES:Academy,AcademyPublic
ATTACH;FMTTYPE=image/png:https://www.shellpoint.net/wp-content/uploads/2025/12/herseys-and-mars-chocolate.png
ORGANIZER;CN="Kelly McBane%2C Fine & Performing Arts Manager":MAILTO:kellymcbane@shellpoint.org
END:VEVENT
END:VCALENDAR