BEGIN:VCALENDAR
VERSION:2.0
PRODID:-//Shell Point Resident Website - ECPv6.15.17.1//NONSGML v1.0//EN
CALSCALE:GREGORIAN
METHOD:PUBLISH
X-WR-CALNAME:Shell Point Resident Website
X-ORIGINAL-URL:https://www.shellpoint.net
X-WR-CALDESC:Events for Shell Point Resident Website
REFRESH-INTERVAL;VALUE=DURATION:PT1H
X-Robots-Tag:noindex
X-PUBLISHED-TTL:PT1H
BEGIN:VTIMEZONE
TZID:America/New_York
BEGIN:DAYLIGHT
TZOFFSETFROM:-0500
TZOFFSETTO:-0400
TZNAME:EDT
DTSTART:20250309T070000
END:DAYLIGHT
BEGIN:STANDARD
TZOFFSETFROM:-0400
TZOFFSETTO:-0500
TZNAME:EST
DTSTART:20251102T060000
END:STANDARD
BEGIN:DAYLIGHT
TZOFFSETFROM:-0500
TZOFFSETTO:-0400
TZNAME:EDT
DTSTART:20260308T070000
END:DAYLIGHT
BEGIN:STANDARD
TZOFFSETFROM:-0400
TZOFFSETTO:-0500
TZNAME:EST
DTSTART:20261101T060000
END:STANDARD
BEGIN:DAYLIGHT
TZOFFSETFROM:-0500
TZOFFSETTO:-0400
TZNAME:EDT
DTSTART:20270314T070000
END:DAYLIGHT
BEGIN:STANDARD
TZOFFSETFROM:-0400
TZOFFSETTO:-0500
TZNAME:EST
DTSTART:20271107T060000
END:STANDARD
END:VTIMEZONE
BEGIN:VEVENT
DTSTART;TZID=America/New_York:20260126T140000
DTEND;TZID=America/New_York:20260126T150000
DTSTAMP:20260424T073837
CREATED:20251209T192735Z
LAST-MODIFIED:20251210T140800Z
UID:10005599-1769436000-1769439600@www.shellpoint.net
SUMMARY:FLL24 - Be the Flame: Holocaust Remembrance Day Program
DESCRIPTION:In recognition of Holocaust Remembrance Day\, Shell Point hosts Be the Flame\, a moving program presented in partnership with The Common Ground Collective. This event honors the six million Jewish lives lost and highlights the importance of remembrance\, unity\, and compassion. The program features distinguished speakers\, including Dr. Robert Hilliard\, a 100-year-old WWII hero who helped save thousands of Holocaust survivors; Holocaust survivor and author Peter Semenhaur\, who fled Nazi Germany as a child; and acclaimed journalist Mike Hirsh\, who reported from WWII front lines. Additional presentations include reflections from activist Sunny Lubner\, a healing prayer by Cantor Barry Butenski\, music by Diane and Chuck Coffman\, and readings by members of The Common Ground Collective.
URL:https://www.shellpoint.net/event/fll24-be-the-flame-holocaust-remembrance-day-program/
LOCATION:Connie Brown Hall/TAC\, 17281 On Par Blvd
CATEGORIES:Academy,AcademyPublic
ATTACH;FMTTYPE=image/png:https://www.shellpoint.net/wp-content/uploads/2025/12/be-the-flame.png
ORGANIZER;CN="Kelly McBane%2C Fine & Performing Arts Manager":MAILTO:kellymcbane@shellpoint.org
END:VEVENT
END:VCALENDAR