BEGIN:VCALENDAR
VERSION:2.0
PRODID:-//Shell Point Resident Website - ECPv6.15.17.1//NONSGML v1.0//EN
CALSCALE:GREGORIAN
METHOD:PUBLISH
X-ORIGINAL-URL:https://www.shellpoint.net
X-WR-CALDESC:Events for Shell Point Resident Website
REFRESH-INTERVAL;VALUE=DURATION:PT1H
X-Robots-Tag:noindex
X-PUBLISHED-TTL:PT1H
BEGIN:VTIMEZONE
TZID:America/New_York
BEGIN:DAYLIGHT
TZOFFSETFROM:-0500
TZOFFSETTO:-0400
TZNAME:EDT
DTSTART:20250309T070000
END:DAYLIGHT
BEGIN:STANDARD
TZOFFSETFROM:-0400
TZOFFSETTO:-0500
TZNAME:EST
DTSTART:20251102T060000
END:STANDARD
BEGIN:DAYLIGHT
TZOFFSETFROM:-0500
TZOFFSETTO:-0400
TZNAME:EDT
DTSTART:20260308T070000
END:DAYLIGHT
BEGIN:STANDARD
TZOFFSETFROM:-0400
TZOFFSETTO:-0500
TZNAME:EST
DTSTART:20261101T060000
END:STANDARD
BEGIN:DAYLIGHT
TZOFFSETFROM:-0500
TZOFFSETTO:-0400
TZNAME:EDT
DTSTART:20270314T070000
END:DAYLIGHT
BEGIN:STANDARD
TZOFFSETFROM:-0400
TZOFFSETTO:-0500
TZNAME:EST
DTSTART:20271107T060000
END:STANDARD
END:VTIMEZONE
BEGIN:VEVENT
DTSTART;TZID=America/New_York:20260209T190000
DTEND;TZID=America/New_York:20260209T190000
DTSTAMP:20260424T070028
CREATED:20250904T120058Z
LAST-MODIFIED:20260102T185653Z
UID:10005560-1770663600-1770663600@www.shellpoint.net
SUMMARY:Isidore String Quartet
DESCRIPTION:The Tribby proudly welcomes the award-winning Isidore String Quartet — one of the most exciting young ensembles on today’s classical music scene. Winners of the prestigious Banff International String Quartet Competition\, the Quartet brings energy and insight to every performance. With a passion for both timeless masterworks and bold contemporary pieces\, they honor the rich traditions of chamber music while fearlessly exploring new artistic frontiers. Experience the next generation of world-class artistry in an evening of dynamic\, inspiring music-making that you won’t want to miss.
URL:https://www.shellpoint.net/event/isidore-string-quartet/
LOCATION:Connie Brown Hall/TAC\, 17281 On Par Blvd
CATEGORIES:Box Office,Classical,ConcertPublic,Concerts
ATTACH;FMTTYPE=image/jpeg:https://www.shellpoint.net/wp-content/uploads/2025/08/Isidore-Quartet-Artists-Page-e1754921203543.jpg
ORGANIZER;CN="Kelly McBane%2C Fine & Performing Arts Manager":MAILTO:kellymcbane@shellpoint.org
END:VEVENT
BEGIN:VEVENT
DTSTART;TZID=America/New_York:20260210T140000
DTEND;TZID=America/New_York:20260210T150000
DTSTAMP:20260424T070028
CREATED:20251209T194034Z
LAST-MODIFIED:20260205T200913Z
UID:10005603-1770732000-1770735600@www.shellpoint.net
SUMMARY:FLL42 - Appalachian Sounds: A Journey into Americana's Musical Roots
DESCRIPTION:Immerse yourself in the captivating sounds of Appalachia with Suzanne and Jim Hale\, as they transport modern listeners to a bygone era in the mountains and hillsides of this heirloom region of our nation. Their renowned skill on traditional instruments\, combined with engaging anecdotes\, weaves a tapestry of history that comes alive in song. Whether you’re a long-time fan of Americana Roots music or curious about the origins of these timeless melodies\, Appalachian Sounds is a concert you won’t want to miss.
URL:https://www.shellpoint.net/event/fll42-appalachian-sounds-a-journey-into-americanas-musical-roots/
LOCATION:Connie Brown Hall/TAC\, 17281 On Par Blvd
ATTACH;FMTTYPE=image/png:https://www.shellpoint.net/wp-content/uploads/2025/12/appalachian-sounds-1.png
ORGANIZER;CN="Kelly McBane%2C Fine & Performing Arts Manager":MAILTO:kellymcbane@shellpoint.org
END:VEVENT
BEGIN:VEVENT
DTSTART;TZID=America/New_York:20260214T190000
DTEND;TZID=America/New_York:20260214T190000
DTSTAMP:20260424T070028
CREATED:20250904T120052Z
LAST-MODIFIED:20251216T134212Z
UID:10005561-1771095600-1771095600@www.shellpoint.net
SUMMARY:Dallas String Quartet [SOLD OUT]
DESCRIPTION:The Dallas String Quartet brings an exhilarating blend of classical artistry and contemporary energy to the stage! Performing on both traditional and electric strings\, DSQ reimagines favorites from legends like The Beatles\, Journey\, and Queen—alongside today’s charttoppers like Taylor Swift and Ed Sheeran. Whether you’re a fan of timeless classics or modern hits\, this dynamic concert offers something for everyone. Don’t miss an evening of thrilling music\, brilliant musicianship\, and pure entertainment for all generations!
URL:https://www.shellpoint.net/event/dallas-string-quartet/
LOCATION:Connie Brown Hall/TAC\, 17281 On Par Blvd
CATEGORIES:Box Office,ConcertPublic,Concerts,Pop & Rock
ATTACH;FMTTYPE=image/jpeg:https://www.shellpoint.net/wp-content/uploads/2025/08/Dallas-String-Quartet-Promo-Photo-2-e1754921380701.jpg
ORGANIZER;CN="Kelly McBane%2C Fine & Performing Arts Manager":MAILTO:kellymcbane@shellpoint.org
END:VEVENT
END:VCALENDAR