BEGIN:VCALENDAR
VERSION:2.0
PRODID:-//Shell Point Resident Website - ECPv6.15.17.1//NONSGML v1.0//EN
CALSCALE:GREGORIAN
METHOD:PUBLISH
X-WR-CALNAME:Shell Point Resident Website
X-ORIGINAL-URL:https://www.shellpoint.net
X-WR-CALDESC:Events for Shell Point Resident Website
REFRESH-INTERVAL;VALUE=DURATION:PT1H
X-Robots-Tag:noindex
X-PUBLISHED-TTL:PT1H
BEGIN:VTIMEZONE
TZID:America/New_York
BEGIN:DAYLIGHT
TZOFFSETFROM:-0500
TZOFFSETTO:-0400
TZNAME:EDT
DTSTART:20250309T070000
END:DAYLIGHT
BEGIN:STANDARD
TZOFFSETFROM:-0400
TZOFFSETTO:-0500
TZNAME:EST
DTSTART:20251102T060000
END:STANDARD
BEGIN:DAYLIGHT
TZOFFSETFROM:-0500
TZOFFSETTO:-0400
TZNAME:EDT
DTSTART:20260308T070000
END:DAYLIGHT
BEGIN:STANDARD
TZOFFSETFROM:-0400
TZOFFSETTO:-0500
TZNAME:EST
DTSTART:20261101T060000
END:STANDARD
BEGIN:DAYLIGHT
TZOFFSETFROM:-0500
TZOFFSETTO:-0400
TZNAME:EDT
DTSTART:20270314T070000
END:DAYLIGHT
BEGIN:STANDARD
TZOFFSETFROM:-0400
TZOFFSETTO:-0500
TZNAME:EST
DTSTART:20271107T060000
END:STANDARD
END:VTIMEZONE
BEGIN:VEVENT
DTSTART;TZID=America/New_York:20260421T190000
DTEND;TZID=America/New_York:20260421T203000
DTSTAMP:20260420T055244
CREATED:20260302T173301Z
LAST-MODIFIED:20260317T133728Z
UID:10005634-1776798000-1776803400@www.shellpoint.net
SUMMARY:FGCU Jazz Ensemble
DESCRIPTION:JAZZ ENSEMBLE FEATURING VOCALIST CHRISTIAN WIGGS \nThe FGCU Jazz Ensemble joins forces with award-winning\, critically acclaimed vocalist and composer Christian Wiggs at the Tribby Arts Center. Known for his velvet sound and cinematic storytelling\, Wiggs will bring his dynamic artistry to some of the most beloved classics from the Great American Songbook\, backed by the power and energy of FGCU’s premier big band. \nWhen he’s not on stage\, Wiggs is the producer and director of the hit series Off the Bandstand with Christian Wiggs\, and that same charisma and behind-the-scenes magic will be on full display in this one-night-only collaboration. \nExpect swinging standards\, lush ballads\, and a few surprises—a concert where students and a world-class artist meet right at the heart of the tradition.
URL:https://www.shellpoint.net/event/fgcu-jazz-ensemble/
LOCATION:Connie Brown Hall/TAC\, 17281 On Par Blvd
CATEGORIES:Box Office,ConcertPublic,Concerts,Jazz
ATTACH;FMTTYPE=image/jpeg:https://www.shellpoint.net/wp-content/uploads/2026/03/fgcujazz-1.jpg
ORGANIZER;CN="Kelly McBane%2C Fine & Performing Arts Manager":MAILTO:kellymcbane@shellpoint.org
END:VEVENT
BEGIN:VEVENT
DTSTART;TZID=America/New_York:20260423T190000
DTEND;TZID=America/New_York:20260423T203000
DTSTAMP:20260420T055244
CREATED:20260302T165337Z
LAST-MODIFIED:20260317T132128Z
UID:10005624-1776970800-1776976200@www.shellpoint.net
SUMMARY:Orion Ensemble
DESCRIPTION:The Orion Ensemble\, one of Chicago’s most respected chamber ensembles\, is bringing an exciting concert program to Shell Point. With its unique combinations of instruments—piano\, string trio and clarinet—Orion presents a delightful blend of classical and romantic masterpieces: Mozart’s Clarinet Quartet and Brahms’ Piano Quartet in G Minor\, alongside Alex Goldstein’s Trio on the Roof\, inspired by the beloved musical Fiddler on the Roof. \nChicago Tribune called Orion\, “One of Chicago’s most vibrant\, versatile and distinctive ensembles\,” and Hyde Park Herald wrote\, “One of the finest musical groups in Chicago. The members are all extraordinary musicians.”
URL:https://www.shellpoint.net/event/orion-ensemble/
LOCATION:Connie Brown Hall/TAC\, 17281 On Par Blvd
CATEGORIES:Box Office,Classical,ConcertPublic,Concerts
ATTACH;FMTTYPE=image/jpeg:https://www.shellpoint.net/wp-content/uploads/2026/03/orion.jpg
ORGANIZER;CN="Kelly McBane%2C Fine & Performing Arts Manager":MAILTO:kellymcbane@shellpoint.org
END:VEVENT
END:VCALENDAR