BEGIN:VCALENDAR
VERSION:2.0
PRODID:-//Shell Point Resident Website - ECPv6.15.17.1//NONSGML v1.0//EN
CALSCALE:GREGORIAN
METHOD:PUBLISH
X-ORIGINAL-URL:https://www.shellpoint.net
X-WR-CALDESC:Events for Shell Point Resident Website
REFRESH-INTERVAL;VALUE=DURATION:PT1H
X-Robots-Tag:noindex
X-PUBLISHED-TTL:PT1H
BEGIN:VTIMEZONE
TZID:America/New_York
BEGIN:DAYLIGHT
TZOFFSETFROM:-0500
TZOFFSETTO:-0400
TZNAME:EDT
DTSTART:20250309T070000
END:DAYLIGHT
BEGIN:STANDARD
TZOFFSETFROM:-0400
TZOFFSETTO:-0500
TZNAME:EST
DTSTART:20251102T060000
END:STANDARD
BEGIN:DAYLIGHT
TZOFFSETFROM:-0500
TZOFFSETTO:-0400
TZNAME:EDT
DTSTART:20260308T070000
END:DAYLIGHT
BEGIN:STANDARD
TZOFFSETFROM:-0400
TZOFFSETTO:-0500
TZNAME:EST
DTSTART:20261101T060000
END:STANDARD
BEGIN:DAYLIGHT
TZOFFSETFROM:-0500
TZOFFSETTO:-0400
TZNAME:EDT
DTSTART:20270314T070000
END:DAYLIGHT
BEGIN:STANDARD
TZOFFSETFROM:-0400
TZOFFSETTO:-0500
TZNAME:EST
DTSTART:20271107T060000
END:STANDARD
END:VTIMEZONE
BEGIN:VEVENT
DTSTART;TZID=America/New_York:20260630T190000
DTEND;TZID=America/New_York:20260630T203000
DTSTAMP:20260420T042524
CREATED:20260302T173721Z
LAST-MODIFIED:20260317T133544Z
UID:10005635-1782846000-1782851400@www.shellpoint.net
SUMMARY:Zach Bartholomew Trio
DESCRIPTION:ZACH BARTHOLOMEW – I’ve Got Rhythm: The Music of George Gershwin \nCelebrate the genius of George Gershwin\, one of America’s most iconic composers\, whose melodies effortlessly bridged classical music\, jazz\, and Broadway. \nLed by award-winning pianist Dr. Zachary Bartholomew and featuring the captivating vocals of Nicole Bartholomew\, this concert brings Gershwin’s timeless songs vividly to life. With Bartholomew’s jazz trio\, they deliver bold arrangements\, spirited improvisation\, and fresh interpretations of classics like “I Got Rhythm\,” “Summertime\,” “Embraceable You\,” and “Someone to Watch Over Me.” \nMore than a celebration of Gershwin’s unforgettable songbook\, the performance explores his lasting influence on generations of jazz artists\, showing how his music continues to inspire and resonate with audiences today.
URL:https://www.shellpoint.net/event/zach-bartholomew-trio/
LOCATION:Connie Brown Hall/TAC\, 17281 On Par Blvd
CATEGORIES:Box Office,ConcertPublic,Concerts,Pop & Rock
ATTACH;FMTTYPE=image/jpeg:https://www.shellpoint.net/wp-content/uploads/2026/03/zach.jpg
ORGANIZER;CN="Kelly McBane%2C Fine & Performing Arts Manager":MAILTO:kellymcbane@shellpoint.org
END:VEVENT
BEGIN:VEVENT
DTSTART;TZID=America/New_York:20260703T190000
DTEND;TZID=America/New_York:20260703T203000
DTSTAMP:20260420T042524
CREATED:20260302T163213Z
LAST-MODIFIED:20260317T132004Z
UID:10005620-1783105200-1783110600@www.shellpoint.net
SUMMARY:The Glenn Miller Orchestra
DESCRIPTION:Celebrate 4th of July Weekend with the World-Famous Glenn Miller Orchestra! \nGet ready for an unforgettable holiday celebration as the legendary Glenn Miller Orchestra—the most popular and sought-after big band in the world—takes the stage! Known for its unmistakable jazz sound and timeless swing style\, the Glenn Miller Orchestra remains one of the greatest big bands of all time. \nFormed in 1956 and touring the globe ever since\, the orchestra performs nearly 300 concerts each year\, delighting audiences with classics that defined an era. Under the direction of Erik Stabnau\, the ensemble continues to honor Glenn Miller’s iconic legacy with precision\, charm\, and irresistible swing. \nJoin us for a special patriotic performance perfect for the 4th of July weekend—an uplifting\, red-white-and-blue celebration you won’t want to miss!
URL:https://www.shellpoint.net/event/the-glenn-miller-orchestra/
LOCATION:Connie Brown Hall/TAC\, 17281 On Par Blvd
CATEGORIES:Box Office,ConcertPublic,Concerts,Dance
ATTACH;FMTTYPE=image/jpeg:https://www.shellpoint.net/wp-content/uploads/2026/03/glenn.jpg
ORGANIZER;CN="Kelly McBane%2C Fine & Performing Arts Manager":MAILTO:kellymcbane@shellpoint.org
END:VEVENT
END:VCALENDAR